BEGIN:VCALENDAR
VERSION:2.0
PRODID:-//hacksw/handcal//NONSGML v1.0//EN
BEGIN:VEVENT
SUMMARY:Tournoi judo Port La Nouvelle
UID:a10e6d61-8909-4812-a559-3eee04f3188e
DTSTART:20260214T130000Z
DTEND:20260214T160000Z
LOCATION:Localisation   
CATEGORIES:Sportif
STATUS:
DESCRIPTION:<p><span style="font-size:12pt;"><span><span
 style="font-family:Aptos, sans-serif;"><b>Tournoi de judo de Port La
 Nouvelle le 14 Fevrier 2026</b></span></span></span></p>
 
 <p><span
 style="font-size:12pt;"><span><span style="font-family:Aptos,
 sans-serif;"><b><u>Animation Judo
 Port-la-Nouvelle</u></b></span></span></span></p>
 
 <p><span
 style="font-size:12pt;"><span><span style="font-family:Aptos,
 sans-serif;"><b>Samedi 14 fevrier 2026 :</b> Gymnase Cosec, rue
 Alain Colas - 11210 Port la Nouvelle
 </span></span></span></p>
 
 <p><span
 style="font-size:12pt;"><span><span style="font-family:Aptos,
 sans-serif;"><b>*Baby Judo : </b>(2021-2020) Accueil 13h30 /
 Animation 14h - 14h45 environ </span></span></span></p>
 
 <p><span
 style="font-size:12pt;"><span><span style="font-family:Aptos,
 sans-serif;"><b>*Mini-poussin(es) : </b>(2019-2018) Accueil
 14h00-14h30 / Animation 14h45 - 15h45 environ.  Echauffement a
 partir de 14h30 puis randoris arbitres de 1’ , 2 ippons ou 20 pts
 max Immobilisation 10’’ a 14’’ Waza-Ari, 15’’ Ippon.
 Poules de 3 ou 4 par groupes morphologiques.
 </span></span></span></p>
 
 <p><span
 style="font-size:12pt;"><span><span style="font-family:Aptos,
 sans-serif;"><b>*Poussin(es) :</b> (2017-2016) Accueil 15h-15h30 /
 Animation a partir de 15h45 Echauffement a partir de 15h30 puis
 randoris arbitres de 1’30’’ , 2 ippons ou 20 pts max
 Immobilisation 10’’ a 14’’ Waza-Ari, 15’’ Ippon. Poules
 de 3 ou 4 par groupes morphologiques et separation G/F si possible.
 </span></span></span></p>
 
 <p><span
 style="font-size:12pt;"><span><span style="font-family:Aptos,
 sans-serif;">Tous les participants seront recompenses.
 </span></span></span></p>
 
 <p><span
 style="font-size:12pt;"><span><span style="font-family:Aptos,
 sans-serif;"><b>Contacts :</b> Guy Dhoms (President) 06 07 72 90 11
 </span></span></span></p>
 
 <p><span
 style="font-size:12pt;"><span><span style="font-family:Aptos,
 sans-serif;">                       Alex
 Leguevaques (Enseignant) 06 64 93 39 67</span></span></span></p>
URL;VALUE=URI:https://judo-pln.sportsregions.fr/evenements/2026/02/14/tournoi-judo-port-la-nouvelle-2411675
END:VEVENT
END:VCALENDAR
